BEGIN:VCALENDAR
VERSION:2.0
PRODID:-//Hipnotik - ECPv6.1.4//NONSGML v1.0//EN
CALSCALE:GREGORIAN
METHOD:PUBLISH
X-WR-CALNAME:Hipnotik
X-ORIGINAL-URL:https://hipnotik.es
X-WR-CALDESC:Eventos para Hipnotik
REFRESH-INTERVAL;VALUE=DURATION:PT1H
X-Robots-Tag:noindex
X-PUBLISHED-TTL:PT1H
BEGIN:VTIMEZONE
TZID:Europe/Madrid
BEGIN:DAYLIGHT
TZOFFSETFROM:+0100
TZOFFSETTO:+0200
TZNAME:CEST
DTSTART:20240331T010000
END:DAYLIGHT
BEGIN:STANDARD
TZOFFSETFROM:+0200
TZOFFSETTO:+0100
TZNAME:CET
DTSTART:20241027T010000
END:STANDARD
END:VTIMEZONE
BEGIN:VEVENT
DTSTART;TZID=Europe/Madrid:20240209T190000
DTEND;TZID=Europe/Madrid:20240209T203000
DTSTAMP:20260423T001448
CREATED:20240128T170256Z
LAST-MODIFIED:20240128T170256Z
UID:15280-1707505200-1707510600@hipnotik.es
SUMMARY:TALLER AUTO HIPNOSIS
DESCRIPTION:Descripción : después de una explicación sobre la auto hipnosis y para qué se utiliza\, empezaremos un primer ejercicio para descubrir el estado modificado de consciencia.\nEn la segunda parte del taller trabajaremos un método para poder acceder a este estado con autonomía y así iniciarse a la auto hipnosis.
URL:https://hipnotik.es/actividad/taller-auto-hipnosis/
LOCATION:Casa de Asociaciones Rogelia de Alvaro\, Vitoria
END:VEVENT
END:VCALENDAR